BEGIN:VCALENDAR
VERSION:2.0
PRODID:-//Terry&#039;s Serendipity Cafe - ECPv6.15.20//NONSGML v1.0//EN
CALSCALE:GREGORIAN
METHOD:PUBLISH
X-ORIGINAL-URL:https://serendipitycafe.org
X-WR-CALDESC:Events for Terry&#039;s Serendipity Cafe
REFRESH-INTERVAL;VALUE=DURATION:PT1H
X-Robots-Tag:noindex
X-PUBLISHED-TTL:PT1H
BEGIN:VTIMEZONE
TZID:America/New_York
BEGIN:DAYLIGHT
TZOFFSETFROM:-0500
TZOFFSETTO:-0400
TZNAME:EDT
DTSTART:20030406T070000
END:DAYLIGHT
BEGIN:STANDARD
TZOFFSETFROM:-0400
TZOFFSETTO:-0500
TZNAME:EST
DTSTART:20031026T060000
END:STANDARD
BEGIN:DAYLIGHT
TZOFFSETFROM:-0500
TZOFFSETTO:-0400
TZNAME:EDT
DTSTART:20040404T070000
END:DAYLIGHT
BEGIN:STANDARD
TZOFFSETFROM:-0400
TZOFFSETTO:-0500
TZNAME:EST
DTSTART:20041031T060000
END:STANDARD
BEGIN:DAYLIGHT
TZOFFSETFROM:-0500
TZOFFSETTO:-0400
TZNAME:EDT
DTSTART:20050403T070000
END:DAYLIGHT
BEGIN:STANDARD
TZOFFSETFROM:-0400
TZOFFSETTO:-0500
TZNAME:EST
DTSTART:20051030T060000
END:STANDARD
END:VTIMEZONE
BEGIN:VEVENT
DTSTART;TZID=America/New_York:20040203T000000
DTEND;TZID=America/New_York:20040203T000000
DTSTAMP:20260424T010225
CREATED:20250203T042721Z
LAST-MODIFIED:20250203T042721Z
UID:840-1075766400-1075766400@serendipitycafe.org
SUMMARY:The “Battle of the Bands Redux” Produced
DESCRIPTION:The “Battle of the Bands Redux” Produced by Evan Hall\,was a great success. It was too bad Forever Stark and Inevitable didn’t perform\, but we had enough music anyhow. Send your comments to se*************@*****il.com
URL:https://serendipitycafe.org/event/the-battle-of-the-bands-redux-produced/
LOCATION:NJ
END:VEVENT
BEGIN:VEVENT
DTSTART;TZID=America/New_York:20040223T000000
DTEND;TZID=America/New_York:20040223T000000
DTSTAMP:20260424T010225
CREATED:20250203T042721Z
LAST-MODIFIED:20250203T042721Z
UID:839-1077494400-1077494400@serendipitycafe.org
SUMMARY:The “Candle Light” Café included many ba
DESCRIPTION:The “Candle Light” Café included many bands never before seen at Serendipity. We were lucky to get Lucas’s camera working long enough to get the pictures off it. Holy Moley!
URL:https://serendipitycafe.org/event/the-candle-light-cafe-included-many-ba/
LOCATION:NJ
END:VEVENT
END:VCALENDAR