BEGIN:VCALENDAR
VERSION:2.0
PRODID:-//Terry&#039;s Serendipity Cafe - ECPv6.15.20//NONSGML v1.0//EN
CALSCALE:GREGORIAN
METHOD:PUBLISH
X-WR-CALNAME:Terry&#039;s Serendipity Cafe
X-ORIGINAL-URL:https://serendipitycafe.org
X-WR-CALDESC:Events for Terry&#039;s Serendipity Cafe
REFRESH-INTERVAL;VALUE=DURATION:PT1H
X-Robots-Tag:noindex
X-PUBLISHED-TTL:PT1H
BEGIN:VTIMEZONE
TZID:America/New_York
BEGIN:DAYLIGHT
TZOFFSETFROM:-0500
TZOFFSETTO:-0400
TZNAME:EDT
DTSTART:20030406T070000
END:DAYLIGHT
BEGIN:STANDARD
TZOFFSETFROM:-0400
TZOFFSETTO:-0500
TZNAME:EST
DTSTART:20031026T060000
END:STANDARD
BEGIN:DAYLIGHT
TZOFFSETFROM:-0500
TZOFFSETTO:-0400
TZNAME:EDT
DTSTART:20040404T070000
END:DAYLIGHT
BEGIN:STANDARD
TZOFFSETFROM:-0400
TZOFFSETTO:-0500
TZNAME:EST
DTSTART:20041031T060000
END:STANDARD
BEGIN:DAYLIGHT
TZOFFSETFROM:-0500
TZOFFSETTO:-0400
TZNAME:EDT
DTSTART:20050403T070000
END:DAYLIGHT
BEGIN:STANDARD
TZOFFSETFROM:-0400
TZOFFSETTO:-0500
TZNAME:EST
DTSTART:20051030T060000
END:STANDARD
END:VTIMEZONE
BEGIN:VEVENT
DTSTART;TZID=America/New_York:20040304T000000
DTEND;TZID=America/New_York:20040304T000000
DTSTAMP:20260423T233726
CREATED:20250203T042721Z
LAST-MODIFIED:20250203T042721Z
UID:838-1078358400-1078358400@serendipitycafe.org
SUMMARY:Since the Mettenheimer Ball is shaping u
DESCRIPTION:Since the Mettenheimer Ball is shaping up to be the most expensive endeavor that Terry’s Serendipity Cafe has ever run ( and the most serious undertaking) \, we’re running a benefit to help with the catering and rent. It will be held on Saturday March 13th\,  6PM to 9 PM  at @ la Palais Du Goldman 72 Plymouth St. Montclair\, The suggested donation is $2.00\, more if you can afford it. The entertainment will be provided by Bulletisme\, Forever Stark\, and Remember Van Gogh. Also\, our March event\, on the 20th\, will try to raise money for the Mettenheimer as well. You can direct inquiries to se*************@*****il.com.
URL:https://serendipitycafe.org/event/since-the-mettenheimer-ball-is-shaping-u/
LOCATION:NJ
END:VEVENT
BEGIN:VEVENT
DTSTART;TZID=America/New_York:20040323T000000
DTEND;TZID=America/New_York:20040323T000000
DTSTAMP:20260423T233726
CREATED:20250203T042721Z
LAST-MODIFIED:20250203T042721Z
UID:837-1080000000-1080000000@serendipitycafe.org
SUMMARY:The March Serendipity started off a bit
DESCRIPTION:The March Serendipity started off a bit rainy\, but that didn’t bother us much. The café went well\, except for our poet who didn’t show until the next day. Maybe next time?
URL:https://serendipitycafe.org/event/the-march-serendipity-started-off-a-bit/
LOCATION:NJ
END:VEVENT
END:VCALENDAR