BEGIN:VCALENDAR
VERSION:2.0
PRODID:-//Terry&#039;s Serendipity Cafe - ECPv6.15.20//NONSGML v1.0//EN
CALSCALE:GREGORIAN
METHOD:PUBLISH
X-ORIGINAL-URL:https://serendipitycafe.org
X-WR-CALDESC:Events for Terry&#039;s Serendipity Cafe
REFRESH-INTERVAL;VALUE=DURATION:PT1H
X-Robots-Tag:noindex
X-PUBLISHED-TTL:PT1H
BEGIN:VTIMEZONE
TZID:America/New_York
BEGIN:DAYLIGHT
TZOFFSETFROM:-0500
TZOFFSETTO:-0400
TZNAME:EDT
DTSTART:20030406T070000
END:DAYLIGHT
BEGIN:STANDARD
TZOFFSETFROM:-0400
TZOFFSETTO:-0500
TZNAME:EST
DTSTART:20031026T060000
END:STANDARD
BEGIN:DAYLIGHT
TZOFFSETFROM:-0500
TZOFFSETTO:-0400
TZNAME:EDT
DTSTART:20040404T070000
END:DAYLIGHT
BEGIN:STANDARD
TZOFFSETFROM:-0400
TZOFFSETTO:-0500
TZNAME:EST
DTSTART:20041031T060000
END:STANDARD
BEGIN:DAYLIGHT
TZOFFSETFROM:-0500
TZOFFSETTO:-0400
TZNAME:EDT
DTSTART:20050403T070000
END:DAYLIGHT
BEGIN:STANDARD
TZOFFSETFROM:-0400
TZOFFSETTO:-0500
TZNAME:EST
DTSTART:20051030T060000
END:STANDARD
END:VTIMEZONE
BEGIN:VEVENT
DTSTART;TZID=America/New_York:20040609T000000
DTEND;TZID=America/New_York:20040609T000000
DTSTAMP:20260423T190408
CREATED:20250203T042706Z
LAST-MODIFIED:20250203T042706Z
UID:835-1086739200-1086739200@serendipitycafe.org
SUMMARY: The Mettenhiemer was awesome. Thanks to
DESCRIPTION: The Mettenhiemer was awesome. Thanks to Dylan\, Jackie\, Marty\, Gail\, Ken\, Bruno\, all the Staff members\, especially the waiters\, The Montclair Women’s Club\, our advertisers\, the bands\, performers\, lotta work\, lotta good results. Evelyn! Not out of character for a millisecond. Cinema! Cinema!
URL:https://serendipitycafe.org/event/the-mettenhiemer-was-awesome-thanks-to/
LOCATION:NJ
END:VEVENT
BEGIN:VEVENT
DTSTART;TZID=America/New_York:20040619T000000
DTEND;TZID=America/New_York:20040619T000000
DTSTAMP:20260423T190408
CREATED:20250203T042706Z
LAST-MODIFIED:20250203T042706Z
UID:834-1087603200-1087603200@serendipitycafe.org
SUMMARY:The festival Underground was a beautiful
DESCRIPTION:The festival Underground was a beautiful day\, and a small group of the inner circle of Serendipity friends showed up for a really great day of music and sun and breezes and hackie-Frisbee.
URL:https://serendipitycafe.org/event/the-festival-underground-was-a-beautiful/
LOCATION:NJ
END:VEVENT
END:VCALENDAR