BEGIN:VCALENDAR
VERSION:2.0
PRODID:-//Terry&#039;s Serendipity Cafe - ECPv6.15.20//NONSGML v1.0//EN
CALSCALE:GREGORIAN
METHOD:PUBLISH
X-WR-CALNAME:Terry&#039;s Serendipity Cafe
X-ORIGINAL-URL:https://serendipitycafe.org
X-WR-CALDESC:Events for Terry&#039;s Serendipity Cafe
REFRESH-INTERVAL;VALUE=DURATION:PT1H
X-Robots-Tag:noindex
X-PUBLISHED-TTL:PT1H
BEGIN:VTIMEZONE
TZID:America/New_York
BEGIN:DAYLIGHT
TZOFFSETFROM:-0500
TZOFFSETTO:-0400
TZNAME:EDT
DTSTART:20030406T070000
END:DAYLIGHT
BEGIN:STANDARD
TZOFFSETFROM:-0400
TZOFFSETTO:-0500
TZNAME:EST
DTSTART:20031026T060000
END:STANDARD
BEGIN:DAYLIGHT
TZOFFSETFROM:-0500
TZOFFSETTO:-0400
TZNAME:EDT
DTSTART:20040404T070000
END:DAYLIGHT
BEGIN:STANDARD
TZOFFSETFROM:-0400
TZOFFSETTO:-0500
TZNAME:EST
DTSTART:20041031T060000
END:STANDARD
BEGIN:DAYLIGHT
TZOFFSETFROM:-0500
TZOFFSETTO:-0400
TZNAME:EDT
DTSTART:20050403T070000
END:DAYLIGHT
BEGIN:STANDARD
TZOFFSETFROM:-0400
TZOFFSETTO:-0500
TZNAME:EST
DTSTART:20051030T060000
END:STANDARD
END:VTIMEZONE
BEGIN:VEVENT
DTSTART;TZID=America/New_York:20041127T000000
DTEND;TZID=America/New_York:20041127T000000
DTSTAMP:20260423T112441
CREATED:20250203T042706Z
LAST-MODIFIED:20250203T042706Z
UID:832-1101513600-1101513600@serendipitycafe.org
SUMMARY:The Library café was fine once we got in
DESCRIPTION:The Library café was fine once we got in. There were some rough moments\, waiting for the keymaster to let us in. After that\, Kelsey was great on the café part\, and Evan did OK at MC and ent. Head. The crowd seemed to be weighted toward the younger side and somewhat smaller than usual. But we decided to go with the Library for First Night.
URL:https://serendipitycafe.org/event/the-library-cafe-was-fine-once-we-got-in/
LOCATION:NJ
END:VEVENT
END:VCALENDAR