BEGIN:VCALENDAR
VERSION:2.0
PRODID:-//Terry&#039;s Serendipity Cafe - ECPv6.15.20//NONSGML v1.0//EN
CALSCALE:GREGORIAN
METHOD:PUBLISH
X-ORIGINAL-URL:https://serendipitycafe.org
X-WR-CALDESC:Events for Terry&#039;s Serendipity Cafe
REFRESH-INTERVAL;VALUE=DURATION:PT1H
X-Robots-Tag:noindex
X-PUBLISHED-TTL:PT1H
BEGIN:VTIMEZONE
TZID:America/New_York
BEGIN:DAYLIGHT
TZOFFSETFROM:-0500
TZOFFSETTO:-0400
TZNAME:EDT
DTSTART:20040404T070000
END:DAYLIGHT
BEGIN:STANDARD
TZOFFSETFROM:-0400
TZOFFSETTO:-0500
TZNAME:EST
DTSTART:20041031T060000
END:STANDARD
BEGIN:DAYLIGHT
TZOFFSETFROM:-0500
TZOFFSETTO:-0400
TZNAME:EDT
DTSTART:20050403T070000
END:DAYLIGHT
BEGIN:STANDARD
TZOFFSETFROM:-0400
TZOFFSETTO:-0500
TZNAME:EST
DTSTART:20051030T060000
END:STANDARD
BEGIN:DAYLIGHT
TZOFFSETFROM:-0500
TZOFFSETTO:-0400
TZNAME:EDT
DTSTART:20060402T070000
END:DAYLIGHT
BEGIN:STANDARD
TZOFFSETFROM:-0400
TZOFFSETTO:-0500
TZNAME:EST
DTSTART:20061029T060000
END:STANDARD
END:VTIMEZONE
BEGIN:VEVENT
DTSTART;TZID=America/New_York:20050228T000000
DTEND;TZID=America/New_York:20050228T000000
DTSTAMP:20260423T070040
CREATED:20250203T042651Z
LAST-MODIFIED:20250203T042651Z
UID:829-1109548800-1109548800@serendipitycafe.org
SUMMARY:– Collected $142 for Tsunami Relief. How
DESCRIPTION:– Collected $142 for Tsunami Relief. How many want Saturday’s silly story on the web site? Raise your hands\, one at a time\, please.
URL:https://serendipitycafe.org/event/collected-142-for-tsunami-relief-how/
LOCATION:NJ
END:VEVENT
END:VCALENDAR