BEGIN:VCALENDAR
VERSION:2.0
PRODID:-//Terry&#039;s Serendipity Cafe - ECPv6.15.20//NONSGML v1.0//EN
CALSCALE:GREGORIAN
METHOD:PUBLISH
X-ORIGINAL-URL:https://serendipitycafe.org
X-WR-CALDESC:Events for Terry&#039;s Serendipity Cafe
REFRESH-INTERVAL;VALUE=DURATION:PT1H
X-Robots-Tag:noindex
X-PUBLISHED-TTL:PT1H
BEGIN:VTIMEZONE
TZID:America/New_York
BEGIN:DAYLIGHT
TZOFFSETFROM:-0500
TZOFFSETTO:-0400
TZNAME:EDT
DTSTART:20040404T070000
END:DAYLIGHT
BEGIN:STANDARD
TZOFFSETFROM:-0400
TZOFFSETTO:-0500
TZNAME:EST
DTSTART:20041031T060000
END:STANDARD
BEGIN:DAYLIGHT
TZOFFSETFROM:-0500
TZOFFSETTO:-0400
TZNAME:EDT
DTSTART:20050403T070000
END:DAYLIGHT
BEGIN:STANDARD
TZOFFSETFROM:-0400
TZOFFSETTO:-0500
TZNAME:EST
DTSTART:20051030T060000
END:STANDARD
BEGIN:DAYLIGHT
TZOFFSETFROM:-0500
TZOFFSETTO:-0400
TZNAME:EDT
DTSTART:20060402T070000
END:DAYLIGHT
BEGIN:STANDARD
TZOFFSETFROM:-0400
TZOFFSETTO:-0500
TZNAME:EST
DTSTART:20061029T060000
END:STANDARD
END:VTIMEZONE
BEGIN:VEVENT
DTSTART;TZID=America/New_York:20051204T000000
DTEND;TZID=America/New_York:20051204T000000
DTSTAMP:20260422T144733
CREATED:20250203T042621Z
LAST-MODIFIED:20250203T042621Z
UID:820-1133654400-1133654400@serendipitycafe.org
SUMMARY:– The December 3 Serendipity was small b
DESCRIPTION:– The December 3 Serendipity was small but fun. We had a lot of competion from Showcase\, Hockey and Football. The large group of helpers at the end\, putting the equipment back at 277 Grove\, was a really wonderful indication that Serendipity is doing fine. Annnnnd… Check the “myspace” page at http://www.myspace.com/serendipitycafe1 this is the myspace email address: se*********************@*****il.com  Thanks to Max and Julian!!!
URL:https://serendipitycafe.org/event/the-december-3-serendipity-was-small-b/
LOCATION:NJ
END:VEVENT
END:VCALENDAR