BEGIN:VCALENDAR
VERSION:2.0
PRODID:-//Terry&#039;s Serendipity Cafe - ECPv6.15.20//NONSGML v1.0//EN
CALSCALE:GREGORIAN
METHOD:PUBLISH
X-ORIGINAL-URL:https://serendipitycafe.org
X-WR-CALDESC:Events for Terry&#039;s Serendipity Cafe
REFRESH-INTERVAL;VALUE=DURATION:PT1H
X-Robots-Tag:noindex
X-PUBLISHED-TTL:PT1H
BEGIN:VTIMEZONE
TZID:America/New_York
BEGIN:DAYLIGHT
TZOFFSETFROM:-0500
TZOFFSETTO:-0400
TZNAME:EDT
DTSTART:20180311T070000
END:DAYLIGHT
BEGIN:STANDARD
TZOFFSETFROM:-0400
TZOFFSETTO:-0500
TZNAME:EST
DTSTART:20181104T060000
END:STANDARD
BEGIN:DAYLIGHT
TZOFFSETFROM:-0500
TZOFFSETTO:-0400
TZNAME:EDT
DTSTART:20190310T070000
END:DAYLIGHT
BEGIN:STANDARD
TZOFFSETFROM:-0400
TZOFFSETTO:-0500
TZNAME:EST
DTSTART:20191103T060000
END:STANDARD
BEGIN:DAYLIGHT
TZOFFSETFROM:-0500
TZOFFSETTO:-0400
TZNAME:EDT
DTSTART:20200308T070000
END:DAYLIGHT
BEGIN:STANDARD
TZOFFSETFROM:-0400
TZOFFSETTO:-0500
TZNAME:EST
DTSTART:20201101T060000
END:STANDARD
END:VTIMEZONE
BEGIN:VEVENT
DTSTART;TZID=America/New_York:20190622T000000
DTEND;TZID=America/New_York:20190622T000000
DTSTAMP:20260425T233026
CREATED:20250203T041701Z
LAST-MODIFIED:20250203T041701Z
UID:664-1561161600-1561161600@serendipitycafe.org
SUMMARY:Festival Underground at Edgemont Park. C
DESCRIPTION:Festival Underground at Edgemont Park. Congratulations to Gold Carson\, winner of the 2019 Serendipity Staff Scholarship Award!   We all appreciate what you have done to keep Terry’s Serendipity Café running smoothly in its 24th year.         The Weather was sunny at last\, the music was fine\, (I liked Beach Bod)\, The staff band was SPECTACULAR\, and I don’t know how the lemon sugar cookies tasted.
URL:https://serendipitycafe.org/event/festival-underground-at-edgemont-park-c/
LOCATION:NJ
END:VEVENT
END:VCALENDAR