BEGIN:VCALENDAR
VERSION:2.0
PRODID:-//Terry&#039;s Serendipity Cafe - ECPv6.15.20//NONSGML v1.0//EN
CALSCALE:GREGORIAN
METHOD:PUBLISH
X-ORIGINAL-URL:https://serendipitycafe.org
X-WR-CALDESC:Events for Terry&#039;s Serendipity Cafe
REFRESH-INTERVAL;VALUE=DURATION:PT1H
X-Robots-Tag:noindex
X-PUBLISHED-TTL:PT1H
BEGIN:VTIMEZONE
TZID:America/New_York
BEGIN:DAYLIGHT
TZOFFSETFROM:-0500
TZOFFSETTO:-0400
TZNAME:EDT
DTSTART:20200308T070000
END:DAYLIGHT
BEGIN:STANDARD
TZOFFSETFROM:-0400
TZOFFSETTO:-0500
TZNAME:EST
DTSTART:20201101T060000
END:STANDARD
BEGIN:DAYLIGHT
TZOFFSETFROM:-0500
TZOFFSETTO:-0400
TZNAME:EDT
DTSTART:20210314T070000
END:DAYLIGHT
BEGIN:STANDARD
TZOFFSETFROM:-0400
TZOFFSETTO:-0500
TZNAME:EST
DTSTART:20211107T060000
END:STANDARD
BEGIN:DAYLIGHT
TZOFFSETFROM:-0500
TZOFFSETTO:-0400
TZNAME:EDT
DTSTART:20220313T070000
END:DAYLIGHT
BEGIN:STANDARD
TZOFFSETFROM:-0400
TZOFFSETTO:-0500
TZNAME:EST
DTSTART:20221106T060000
END:STANDARD
END:VTIMEZONE
BEGIN:VEVENT
DTSTART;TZID=America/New_York:20210320T000000
DTEND;TZID=America/New_York:20210320T000000
DTSTAMP:20260424T123616
CREATED:20250203T041616Z
LAST-MODIFIED:20250203T041616Z
UID:649-1616198400-1616198400@serendipitycafe.org
SUMMARY:Terry’s Serendipity Café at Watchung Pla
DESCRIPTION:Terry’s Serendipity Café at Watchung Plaza. Spring was celebrated by an outdoor concert by Wizard Brain\, Blatant Men\, Bearing Obscurity and Charlie Ballinger. New recruits\, mostly as a result of the previous week’s Friday show for the 9th graders in the parking lot by the Innes building\, introduced us to at least 3 new staff members\, and that helped out a lot at the show. We also raised over $120 toward the generator fund. Only about $20 bucks more will do it!
URL:https://serendipitycafe.org/event/terrys-serendipity-cafe-at-watchung-pla/
LOCATION:NJ
END:VEVENT
END:VCALENDAR