BEGIN:VCALENDAR
VERSION:2.0
PRODID:-//Terry&#039;s Serendipity Cafe - ECPv6.15.20//NONSGML v1.0//EN
CALSCALE:GREGORIAN
METHOD:PUBLISH
X-WR-CALNAME:Terry&#039;s Serendipity Cafe
X-ORIGINAL-URL:https://serendipitycafe.org
X-WR-CALDESC:Events for Terry&#039;s Serendipity Cafe
REFRESH-INTERVAL;VALUE=DURATION:PT1H
X-Robots-Tag:noindex
X-PUBLISHED-TTL:PT1H
BEGIN:VTIMEZONE
TZID:America/New_York
BEGIN:DAYLIGHT
TZOFFSETFROM:-0500
TZOFFSETTO:-0400
TZNAME:EDT
DTSTART:20200308T070000
END:DAYLIGHT
BEGIN:STANDARD
TZOFFSETFROM:-0400
TZOFFSETTO:-0500
TZNAME:EST
DTSTART:20201101T060000
END:STANDARD
BEGIN:DAYLIGHT
TZOFFSETFROM:-0500
TZOFFSETTO:-0400
TZNAME:EDT
DTSTART:20210314T070000
END:DAYLIGHT
BEGIN:STANDARD
TZOFFSETFROM:-0400
TZOFFSETTO:-0500
TZNAME:EST
DTSTART:20211107T060000
END:STANDARD
BEGIN:DAYLIGHT
TZOFFSETFROM:-0500
TZOFFSETTO:-0400
TZNAME:EDT
DTSTART:20220313T070000
END:DAYLIGHT
BEGIN:STANDARD
TZOFFSETFROM:-0400
TZOFFSETTO:-0500
TZNAME:EST
DTSTART:20221106T060000
END:STANDARD
END:VTIMEZONE
BEGIN:VEVENT
DTSTART;TZID=America/New_York:20210424T000000
DTEND;TZID=America/New_York:20210424T000000
DTSTAMP:20260424T105640
CREATED:20250203T041616Z
LAST-MODIFIED:20250203T041616Z
UID:648-1619222400-1619222400@serendipitycafe.org
SUMMARY:We started Wednesday ok\, but by Saturday
DESCRIPTION:We started Wednesday ok\, but by Saturday it was confusion. Anyhow Daryl stepped in as Werebears\, Arabella debuted as a singer songwriter as seen on TV and Joe Caldwell stepped in and did some nice stuff. There was a jam\, of sorts and some really fancy pedalboards. Thanks all!
URL:https://serendipitycafe.org/event/we-started-wednesday-ok-but-by-saturday/
LOCATION:NJ
END:VEVENT
END:VCALENDAR