BEGIN:VCALENDAR
VERSION:2.0
PRODID:-//Terry&#039;s Serendipity Cafe - ECPv6.15.20//NONSGML v1.0//EN
CALSCALE:GREGORIAN
METHOD:PUBLISH
X-ORIGINAL-URL:https://serendipitycafe.org
X-WR-CALDESC:Events for Terry&#039;s Serendipity Cafe
REFRESH-INTERVAL;VALUE=DURATION:PT1H
X-Robots-Tag:noindex
X-PUBLISHED-TTL:PT1H
BEGIN:VTIMEZONE
TZID:America/New_York
BEGIN:DAYLIGHT
TZOFFSETFROM:-0500
TZOFFSETTO:-0400
TZNAME:EDT
DTSTART:20200308T070000
END:DAYLIGHT
BEGIN:STANDARD
TZOFFSETFROM:-0400
TZOFFSETTO:-0500
TZNAME:EST
DTSTART:20201101T060000
END:STANDARD
BEGIN:DAYLIGHT
TZOFFSETFROM:-0500
TZOFFSETTO:-0400
TZNAME:EDT
DTSTART:20210314T070000
END:DAYLIGHT
BEGIN:STANDARD
TZOFFSETFROM:-0400
TZOFFSETTO:-0500
TZNAME:EST
DTSTART:20211107T060000
END:STANDARD
BEGIN:DAYLIGHT
TZOFFSETFROM:-0500
TZOFFSETTO:-0400
TZNAME:EDT
DTSTART:20220313T070000
END:DAYLIGHT
BEGIN:STANDARD
TZOFFSETFROM:-0400
TZOFFSETTO:-0500
TZNAME:EST
DTSTART:20221106T060000
END:STANDARD
END:VTIMEZONE
BEGIN:VEVENT
DTSTART;TZID=America/New_York:20210823T000000
DTEND;TZID=America/New_York:20210823T000000
DTSTAMP:20260424T042323
CREATED:20250203T041601Z
LAST-MODIFIED:20250203T041601Z
UID:643-1629676800-1629676800@serendipitycafe.org
SUMMARY:It seemed the rain would never stop. But
DESCRIPTION:It seemed the rain would never stop. But it did\, in time for Charlie Bollinger\, Then Ultra 54 and Radxbent and Mauger. With a bit of open mic. The audience was great\, we collected some donations\, and the generator ran fine. For what more could you ask? Thanks to Nico for drum transportation and our new staffers for sticking with it!
URL:https://serendipitycafe.org/event/it-seemed-the-rain-would-never-stop-but/
LOCATION:NJ
END:VEVENT
END:VCALENDAR