BEGIN:VCALENDAR
VERSION:2.0
PRODID:-//Terry&#039;s Serendipity Cafe - ECPv6.15.20//NONSGML v1.0//EN
CALSCALE:GREGORIAN
METHOD:PUBLISH
X-ORIGINAL-URL:https://serendipitycafe.org
X-WR-CALDESC:Events for Terry&#039;s Serendipity Cafe
REFRESH-INTERVAL;VALUE=DURATION:PT1H
X-Robots-Tag:noindex
X-PUBLISHED-TTL:PT1H
BEGIN:VTIMEZONE
TZID:America/New_York
BEGIN:DAYLIGHT
TZOFFSETFROM:-0500
TZOFFSETTO:-0400
TZNAME:EDT
DTSTART:20200308T070000
END:DAYLIGHT
BEGIN:STANDARD
TZOFFSETFROM:-0400
TZOFFSETTO:-0500
TZNAME:EST
DTSTART:20201101T060000
END:STANDARD
BEGIN:DAYLIGHT
TZOFFSETFROM:-0500
TZOFFSETTO:-0400
TZNAME:EDT
DTSTART:20210314T070000
END:DAYLIGHT
BEGIN:STANDARD
TZOFFSETFROM:-0400
TZOFFSETTO:-0500
TZNAME:EST
DTSTART:20211107T060000
END:STANDARD
BEGIN:DAYLIGHT
TZOFFSETFROM:-0500
TZOFFSETTO:-0400
TZNAME:EDT
DTSTART:20220313T070000
END:DAYLIGHT
BEGIN:STANDARD
TZOFFSETFROM:-0400
TZOFFSETTO:-0500
TZNAME:EST
DTSTART:20221106T060000
END:STANDARD
END:VTIMEZONE
BEGIN:VEVENT
DTSTART;TZID=America/New_York:20211029T000000
DTEND;TZID=America/New_York:20211029T000000
DTSTAMP:20260424T005648
CREATED:20250203T041546Z
LAST-MODIFIED:20250203T041546Z
UID:641-1635465600-1635465600@serendipitycafe.org
SUMMARY:Regrettably we did not have enough trans
DESCRIPTION:Regrettably we did not have enough transportation for drums\, pumpkins and Halloween decorations\, or enough staff to run the show. AND heavy rain at 7:00 PM (our showtime) made it impossible. We’ll try again next time! However\, our 10/27/2021 Pumpkin Carving and Meeting event went extremely well:
URL:https://serendipitycafe.org/event/regrettably-we-did-not-have-enough-trans/
LOCATION:NJ
END:VEVENT
END:VCALENDAR