BEGIN:VCALENDAR
VERSION:2.0
PRODID:-//Terry&#039;s Serendipity Cafe - ECPv6.15.20//NONSGML v1.0//EN
CALSCALE:GREGORIAN
METHOD:PUBLISH
X-ORIGINAL-URL:https://serendipitycafe.org
X-WR-CALDESC:Events for Terry&#039;s Serendipity Cafe
REFRESH-INTERVAL;VALUE=DURATION:PT1H
X-Robots-Tag:noindex
X-PUBLISHED-TTL:PT1H
BEGIN:VTIMEZONE
TZID:America/New_York
BEGIN:DAYLIGHT
TZOFFSETFROM:-0500
TZOFFSETTO:-0400
TZNAME:EDT
DTSTART:20220313T070000
END:DAYLIGHT
BEGIN:STANDARD
TZOFFSETFROM:-0400
TZOFFSETTO:-0500
TZNAME:EST
DTSTART:20221106T060000
END:STANDARD
BEGIN:DAYLIGHT
TZOFFSETFROM:-0500
TZOFFSETTO:-0400
TZNAME:EDT
DTSTART:20230312T070000
END:DAYLIGHT
BEGIN:STANDARD
TZOFFSETFROM:-0400
TZOFFSETTO:-0500
TZNAME:EST
DTSTART:20231105T060000
END:STANDARD
BEGIN:DAYLIGHT
TZOFFSETFROM:-0500
TZOFFSETTO:-0400
TZNAME:EDT
DTSTART:20240310T070000
END:DAYLIGHT
BEGIN:STANDARD
TZOFFSETFROM:-0400
TZOFFSETTO:-0500
TZNAME:EST
DTSTART:20241103T060000
END:STANDARD
END:VTIMEZONE
BEGIN:VEVENT
DTSTART;TZID=America/New_York:20230621T000000
DTEND;TZID=America/New_York:20230621T000000
DTSTAMP:20260422T161359
CREATED:20250203T041000Z
LAST-MODIFIED:20250203T041000Z
UID:625-1687305600-1687305600@serendipitycafe.org
SUMMARY:and 6/23/2023 MSCP staff helped out at t
DESCRIPTION:and 6/23/2023 MSCP staff helped out at the Wellmont Plaza Make Music Day location with 4 groups until about 5 PM. Then Ed woke up Friday with a muscle spasm in his shoulder which made testing the “Student Run Organization” claim. It seems to be true. Other than the smallish audience\, everything worked quite well. The staff probably should be congratulated for that\, but they already took care of that. Quite soon we will do the 28th Birthday Party of Serendipity.
URL:https://serendipitycafe.org/event/and-6-23-2023-mscp-staff-helped-out-at-t/
LOCATION:NJ
END:VEVENT
END:VCALENDAR