BEGIN:VCALENDAR
VERSION:2.0
PRODID:-//Terry&#039;s Serendipity Cafe - ECPv6.15.20//NONSGML v1.0//EN
CALSCALE:GREGORIAN
METHOD:PUBLISH
X-WR-CALNAME:Terry&#039;s Serendipity Cafe
X-ORIGINAL-URL:https://serendipitycafe.org
X-WR-CALDESC:Events for Terry&#039;s Serendipity Cafe
REFRESH-INTERVAL;VALUE=DURATION:PT1H
X-Robots-Tag:noindex
X-PUBLISHED-TTL:PT1H
BEGIN:VTIMEZONE
TZID:America/New_York
BEGIN:DAYLIGHT
TZOFFSETFROM:-0500
TZOFFSETTO:-0400
TZNAME:EDT
DTSTART:20220313T070000
END:DAYLIGHT
BEGIN:STANDARD
TZOFFSETFROM:-0400
TZOFFSETTO:-0500
TZNAME:EST
DTSTART:20221106T060000
END:STANDARD
BEGIN:DAYLIGHT
TZOFFSETFROM:-0500
TZOFFSETTO:-0400
TZNAME:EDT
DTSTART:20230312T070000
END:DAYLIGHT
BEGIN:STANDARD
TZOFFSETFROM:-0400
TZOFFSETTO:-0500
TZNAME:EST
DTSTART:20231105T060000
END:STANDARD
BEGIN:DAYLIGHT
TZOFFSETFROM:-0500
TZOFFSETTO:-0400
TZNAME:EDT
DTSTART:20240310T070000
END:DAYLIGHT
BEGIN:STANDARD
TZOFFSETFROM:-0400
TZOFFSETTO:-0500
TZNAME:EST
DTSTART:20241103T060000
END:STANDARD
END:VTIMEZONE
BEGIN:VEVENT
DTSTART;TZID=America/New_York:20230714T000000
DTEND;TZID=America/New_York:20230714T000000
DTSTAMP:20260422T143637
CREATED:20250203T041000Z
LAST-MODIFIED:20250203T041000Z
UID:624-1689292800-1689292800@serendipitycafe.org
SUMMARY:Terry’s Serendipity Café Birthday Party
DESCRIPTION:Terry’s Serendipity Café Birthday Party #28 at Amphitheater. The weather looked iffy\, but it seemed like it was going to miss us. Kaelen\, Guthrie and John Grilp went fine\, as did the Serendipity birthday open mic\, with staff songs. Then Wysteria took off and they sounded very good. Screw Ball was just getting started when the rain began\, and they gave up as it became hard rain very quickly. We were already in the process of bagging all the speakers and amps and we had the canopy over the mixer and light control panels. But the cakes took a good watering. Too bad\, they were delicious! The staff hung in there until we got everything packed and returned. Special thanks to Daryl for helping load in the rain\, and Kaylee and Matteo for driving the muddy wet gear to Clifton.
URL:https://serendipitycafe.org/event/terrys-serendipity-cafe-birthday-party/
LOCATION:NJ
END:VEVENT
END:VCALENDAR