BEGIN:VCALENDAR
VERSION:2.0
PRODID:-//Terry&#039;s Serendipity Cafe - ECPv6.15.20//NONSGML v1.0//EN
CALSCALE:GREGORIAN
METHOD:PUBLISH
X-ORIGINAL-URL:https://serendipitycafe.org
X-WR-CALDESC:Events for Terry&#039;s Serendipity Cafe
REFRESH-INTERVAL;VALUE=DURATION:PT1H
X-Robots-Tag:noindex
X-PUBLISHED-TTL:PT1H
BEGIN:VTIMEZONE
TZID:America/New_York
BEGIN:DAYLIGHT
TZOFFSETFROM:-0500
TZOFFSETTO:-0400
TZNAME:EDT
DTSTART:20220313T070000
END:DAYLIGHT
BEGIN:STANDARD
TZOFFSETFROM:-0400
TZOFFSETTO:-0500
TZNAME:EST
DTSTART:20221106T060000
END:STANDARD
BEGIN:DAYLIGHT
TZOFFSETFROM:-0500
TZOFFSETTO:-0400
TZNAME:EDT
DTSTART:20230312T070000
END:DAYLIGHT
BEGIN:STANDARD
TZOFFSETFROM:-0400
TZOFFSETTO:-0500
TZNAME:EST
DTSTART:20231105T060000
END:STANDARD
BEGIN:DAYLIGHT
TZOFFSETFROM:-0500
TZOFFSETTO:-0400
TZNAME:EDT
DTSTART:20240310T070000
END:DAYLIGHT
BEGIN:STANDARD
TZOFFSETFROM:-0400
TZOFFSETTO:-0500
TZNAME:EST
DTSTART:20241103T060000
END:STANDARD
END:VTIMEZONE
BEGIN:VEVENT
DTSTART;TZID=America/New_York:20230818T000000
DTEND;TZID=America/New_York:20230818T000000
DTSTAMP:20260422T130024
CREATED:20250203T041000Z
LAST-MODIFIED:20250203T041000Z
UID:623-1692316800-1692316800@serendipitycafe.org
SUMMARY:Terry’s Serendipity Café at the Amphithe
DESCRIPTION:Terry’s Serendipity Café at the Amphitheater. Jack Powers lent us his drums and we had 2 earlier bands and a long open mic session. There was an improvised sort of sleep walkie feeling at this Serendipity\, and yet we ran out of time. But Nelson was amenable to an extra 10 minutes. I still don’t have a handle on the t-shirts and other merch sales\, but there was some of that\, and NO RAIN. Which was the biggest change.
URL:https://serendipitycafe.org/event/terrys-serendipity-cafe-at-the-amphithe-2/
LOCATION:NJ
END:VEVENT
END:VCALENDAR