BEGIN:VCALENDAR
VERSION:2.0
PRODID:-//Terry&#039;s Serendipity Cafe - ECPv6.15.20//NONSGML v1.0//EN
CALSCALE:GREGORIAN
METHOD:PUBLISH
X-WR-CALNAME:Terry&#039;s Serendipity Cafe
X-ORIGINAL-URL:https://serendipitycafe.org
X-WR-CALDESC:Events for Terry&#039;s Serendipity Cafe
REFRESH-INTERVAL;VALUE=DURATION:PT1H
X-Robots-Tag:noindex
X-PUBLISHED-TTL:PT1H
BEGIN:VTIMEZONE
TZID:America/New_York
BEGIN:DAYLIGHT
TZOFFSETFROM:-0500
TZOFFSETTO:-0400
TZNAME:EDT
DTSTART:20230312T070000
END:DAYLIGHT
BEGIN:STANDARD
TZOFFSETFROM:-0400
TZOFFSETTO:-0500
TZNAME:EST
DTSTART:20231105T060000
END:STANDARD
BEGIN:DAYLIGHT
TZOFFSETFROM:-0500
TZOFFSETTO:-0400
TZNAME:EDT
DTSTART:20240310T070000
END:DAYLIGHT
BEGIN:STANDARD
TZOFFSETFROM:-0400
TZOFFSETTO:-0500
TZNAME:EST
DTSTART:20241103T060000
END:STANDARD
BEGIN:DAYLIGHT
TZOFFSETFROM:-0500
TZOFFSETTO:-0400
TZNAME:EDT
DTSTART:20250309T070000
END:DAYLIGHT
BEGIN:STANDARD
TZOFFSETFROM:-0400
TZOFFSETTO:-0500
TZNAME:EST
DTSTART:20251102T060000
END:STANDARD
END:VTIMEZONE
BEGIN:VEVENT
DTSTART;TZID=America/New_York:20240113T000000
DTEND;TZID=America/New_York:20240113T000000
DTSTAMP:20260422T051157
CREATED:20250203T040944Z
LAST-MODIFIED:20250203T040944Z
UID:619-1705104000-1705104000@serendipitycafe.org
SUMMARY:Terry’s Serendipity Café at B’nai Keshet
DESCRIPTION:Terry’s Serendipity Café at B’nai Keshet. It took us longer than I thought it would to remove and stack all the chairs from the middle of the floor\, and document their locations so we could return them. But we were up and running on time\, with minor setup difficulties like a floppy mic stand. The bands were good\, they all showed up\, played quite loud (hit over 90 on my Sper Scientific sound level meter). I was disappointed in the size of the audience\, but those that showed seemed to have fun dancing and listening. There was a noticeable reduction in size during the last band\, but we tried out our Kazoo horn section on “Tide is High” anyway.
URL:https://serendipitycafe.org/event/terrys-serendipity-cafe-at-bnai-keshet/
LOCATION:NJ
END:VEVENT
END:VCALENDAR