BEGIN:VCALENDAR
VERSION:2.0
PRODID:-//Terry&#039;s Serendipity Cafe - ECPv6.15.20//NONSGML v1.0//EN
CALSCALE:GREGORIAN
METHOD:PUBLISH
X-ORIGINAL-URL:https://serendipitycafe.org
X-WR-CALDESC:Events for Terry&#039;s Serendipity Cafe
REFRESH-INTERVAL;VALUE=DURATION:PT1H
X-Robots-Tag:noindex
X-PUBLISHED-TTL:PT1H
BEGIN:VTIMEZONE
TZID:America/New_York
BEGIN:DAYLIGHT
TZOFFSETFROM:-0500
TZOFFSETTO:-0400
TZNAME:EDT
DTSTART:20230312T070000
END:DAYLIGHT
BEGIN:STANDARD
TZOFFSETFROM:-0400
TZOFFSETTO:-0500
TZNAME:EST
DTSTART:20231105T060000
END:STANDARD
BEGIN:DAYLIGHT
TZOFFSETFROM:-0500
TZOFFSETTO:-0400
TZNAME:EDT
DTSTART:20240310T070000
END:DAYLIGHT
BEGIN:STANDARD
TZOFFSETFROM:-0400
TZOFFSETTO:-0500
TZNAME:EST
DTSTART:20241103T060000
END:STANDARD
BEGIN:DAYLIGHT
TZOFFSETFROM:-0500
TZOFFSETTO:-0400
TZNAME:EDT
DTSTART:20250309T070000
END:DAYLIGHT
BEGIN:STANDARD
TZOFFSETFROM:-0400
TZOFFSETTO:-0500
TZNAME:EST
DTSTART:20251102T060000
END:STANDARD
END:VTIMEZONE
BEGIN:VEVENT
DTSTART;TZID=America/New_York:20240223T000000
DTEND;TZID=America/New_York:20240223T000000
DTSTAMP:20260420T030929
CREATED:20250203T040944Z
LAST-MODIFIED:20250203T040944Z
UID:618-1708646400-1708646400@serendipitycafe.org
SUMMARY:Departed\, Raccoon\, Cheesecake\, Melanchol
DESCRIPTION:Departed\, Raccoon\, Cheesecake\, Melancholy Party were booked but one of them could not make it. We did fine\, anyway. No improvement in attendance\, but a very industrious staff did a great job keeping things running. Miles needs to teach an MC class. The Staff Band was hot\, thanks to Jake and Charles (and Grace). Somewhat loud\, but not in the danger of harm zone.
URL:https://serendipitycafe.org/event/departed-raccoon-cheesecake-melanchol/
LOCATION:NJ
END:VEVENT
END:VCALENDAR